BEGIN:VCALENDAR
VERSION:2.0
PRODID:-//Southport State High Alliance - ECPv4.8.2//NONSGML v1.0//EN
CALSCALE:GREGORIAN
METHOD:PUBLISH
X-WR-CALNAME:Southport State High Alliance
X-ORIGINAL-URL:http://www.southportstatehighalliance.com.au
X-WR-CALDESC:Events for Southport State High Alliance
BEGIN:VEVENT
DTSTART;TZID=UTC+10:20200521T063000
DTEND;TZID=UTC+10:20200521T080000
DTSTAMP:20200301T000849
CREATED:20200218T013726Z
LAST-MODIFIED:20200218T013803Z
UID:2651-1590042600-1590048000@www.southportstatehighalliance.com.au
SUMMARY:Southport State High Alliance Breakfast
DESCRIPTION:Southport State High Independent Public School\ninvites you to attend the\nSouthport State High Alliance Breakfast\nThursday\, May 21st from 6:30AM – 8:00AM\n in the Enterprise Centre \nFor a light breakfast and an opportunity to network with some of Southport’s most influential business people and discuss the future of business and education on the Gold Coast. \nEmail: businessalliance@southportshs.eq.edu.au or PH 5509 1222 \nBookings are not yet available for this event. \n
URL:http://www.southportstatehighalliance.com.au/event/business-alliance-breakfast-5-2-2/
LOCATION:Southport State High School Enterprise Centre\, 75 Smith Street\, Southport\, Queensland\, 4215\, Australia
ATTACH;FMTTYPE=image/png:http://www.southportstatehighalliance.com.au/wp-content/uploads/2016/02/Breakfast2.png
ORGANIZER;CN="Southport%20State%20High%20Alliance":MAILTO:businessalliance@southportshs.eq.edu.au
END:VEVENT
BEGIN:VEVENT
DTSTART;TZID=UTC+10:20200813T063000
DTEND;TZID=UTC+10:20200813T080000
DTSTAMP:20200301T000849
CREATED:20200218T014125Z
LAST-MODIFIED:20200218T014125Z
UID:2655-1597300200-1597305600@www.southportstatehighalliance.com.au
SUMMARY:Southport State High Alliance Breakfast
DESCRIPTION:Southport State High Independent Public School\ninvites you to attend the\nSouthport State High Alliance Breakfast\nThursday\, August 13th from 6:30AM – 8:00AM\n in the Enterprise Centre \nFor a light breakfast and an opportunity to network with some of Southport’s most influential business people and discuss the future of business and education on the Gold Coast. \nEmail: businessalliance@southportshs.eq.edu.au or PH 5509 1222 \nBookings are not yet available for this event. \n
URL:http://www.southportstatehighalliance.com.au/event/business-alliance-breakfast-5-2-2-2/
LOCATION:Southport State High School Enterprise Centre\, 75 Smith Street\, Southport\, Queensland\, 4215\, Australia
ATTACH;FMTTYPE=image/png:http://www.southportstatehighalliance.com.au/wp-content/uploads/2016/02/Breakfast2.png
ORGANIZER;CN="Southport%20State%20High%20Alliance":MAILTO:businessalliance@southportshs.eq.edu.au
END:VEVENT
BEGIN:VEVENT
DTSTART;TZID=UTC+10:20201105T063000
DTEND;TZID=UTC+10:20201105T080000
DTSTAMP:20200301T000849
CREATED:20200218T014219Z
LAST-MODIFIED:20200218T014219Z
UID:2657-1604557800-1604563200@www.southportstatehighalliance.com.au
SUMMARY:Southport State High Alliance Breakfast
DESCRIPTION:Southport State High Independent Public School\ninvites you to attend the\nSouthport State High Alliance Breakfast\nThursday\, November 5th from 6:30AM – 8:00AM\n in the Enterprise Centre \nFor a light breakfast and an opportunity to network with some of Southport’s most influential business people and discuss the future of business and education on the Gold Coast. \nEmail: businessalliance@southportshs.eq.edu.au or PH 5509 1222 \nBookings are not yet available for this event. \n
URL:http://www.southportstatehighalliance.com.au/event/business-alliance-breakfast-05-11-20/
LOCATION:Southport State High School Enterprise Centre\, 75 Smith Street\, Southport\, Queensland\, 4215\, Australia
ATTACH;FMTTYPE=image/png:http://www.southportstatehighalliance.com.au/wp-content/uploads/2016/02/Breakfast2.png
ORGANIZER;CN="Southport%20State%20High%20Alliance":MAILTO:businessalliance@southportshs.eq.edu.au
END:VEVENT
END:VCALENDAR